BEGIN:VCALENDAR
VERSION:2.0
PRODID:-//Web Maréchalerie - ECPv6.15.20//NONSGML v1.0//EN
CALSCALE:GREGORIAN
METHOD:PUBLISH
X-WR-CALNAME:Web Maréchalerie
X-ORIGINAL-URL:https://webmarechalerie.fr
X-WR-CALDESC:Évènements pour Web Maréchalerie
REFRESH-INTERVAL;VALUE=DURATION:PT1H
X-Robots-Tag:noindex
X-PUBLISHED-TTL:PT1H
BEGIN:VTIMEZONE
TZID:Europe/Paris
BEGIN:DAYLIGHT
TZOFFSETFROM:+0100
TZOFFSETTO:+0200
TZNAME:CEST
DTSTART:20250330T010000
END:DAYLIGHT
BEGIN:STANDARD
TZOFFSETFROM:+0200
TZOFFSETTO:+0100
TZNAME:CET
DTSTART:20251026T010000
END:STANDARD
BEGIN:DAYLIGHT
TZOFFSETFROM:+0100
TZOFFSETTO:+0200
TZNAME:CEST
DTSTART:20260329T010000
END:DAYLIGHT
BEGIN:STANDARD
TZOFFSETFROM:+0200
TZOFFSETTO:+0100
TZNAME:CET
DTSTART:20261025T010000
END:STANDARD
BEGIN:DAYLIGHT
TZOFFSETFROM:+0100
TZOFFSETTO:+0200
TZNAME:CEST
DTSTART:20270328T010000
END:DAYLIGHT
BEGIN:STANDARD
TZOFFSETFROM:+0200
TZOFFSETTO:+0100
TZNAME:CET
DTSTART:20271031T010000
END:STANDARD
END:VTIMEZONE
BEGIN:VEVENT
DTSTART;VALUE=DATE:20260416
DTEND;VALUE=DATE:20260417
DTSTAMP:20260422T160739
CREATED:20260405T084138Z
LAST-MODIFIED:20260405T084138Z
UID:6161-1776297600-1776383999@webmarechalerie.fr
SUMMARY:Masterclass diplômante - Fourbure : parcours podiatrique pour maréchaux-ferrants
DESCRIPTION:
URL:https://webmarechalerie.fr/evenement/masterclass-diplomante-fourbure-parcours-podiatrique-pour-marechaux-ferrants/
CATEGORIES:Formation
END:VEVENT
BEGIN:VEVENT
DTSTART;TZID=Europe/Paris:20260410T090000
DTEND;TZID=Europe/Paris:20260410T170000
DTSTAMP:20260422T160739
CREATED:20260226T140527Z
LAST-MODIFIED:20260226T140527Z
UID:6144-1775811600-1775840400@webmarechalerie.fr
SUMMARY:Rencontre régionale Valabre
DESCRIPTION:2ème rencontre régionale de la maréchalerie à Valabre organisé par le Campus Nature Provence. \nEvènement réservé aux professionnels
URL:https://webmarechalerie.fr/evenement/rencontre-regionale-valabre/
LOCATION:Campus Nature Provence\, Chemin du moulin fort\, Gardanne\, 13548\, France
END:VEVENT
BEGIN:VEVENT
DTSTART;VALUE=DATE:20260410
DTEND;VALUE=DATE:20260413
DTSTAMP:20260422T160739
CREATED:20260405T081316Z
LAST-MODIFIED:20260405T081316Z
UID:6158-1775779200-1776038399@webmarechalerie.fr
SUMMARY:Equi Junior Locomotion à Mirande
DESCRIPTION:Programme : \nVendredi 10 \n\n19:30 : Accueil et constitution des équipes\n20:00 : Conférences examens statiques & dynamique. Présentation « Book : mode d’emploi »\n21:30 : Repas et soirée conviviale\n22:00 : Forge de fers et déferrage par les vétérinaires\n\nSamedi 11 \n\n8:00 : Petit déjeuner\n9:00 : Examen statique & dynamique des 5 chevaux. Imagerie et diagnostics\n13:00 : Pause déjeuner\n14:00 : Forge des fers\, parages\, ferrages\, contrôles\n16:30 : Ateliers (Quiz boiteries\, quiz carnet de santé du pied\, présentation Mustad\, dissection\, idées reçues sur le pied nu)\n20:00 : Repas et soirée conviviale\n\nDimanche 12 \n\n8:00 : Petit déjeuner\n9:00 : Ateliers (législation du ferrage/parage\, Web Maréchalerie\, La fourbure endocrinnienne\, mapping\, quizz imagerie et techniques radios)\n12:00 : Visionnage cas clinique EquiJunior 2021 à Equimeeting\n12:30 : Pause déjeuner\, résultats des tests et évaluation de la formation
URL:https://webmarechalerie.fr/evenement/equi-junior-locomotion-a-mirande/
LOCATION:LPA de Mirande\, BP 54\, Route de Valentées\, Mirande\, 32300
CATEGORIES:Concours de maréchalerie,Formation
END:VEVENT
BEGIN:VEVENT
DTSTART;TZID=Europe/Paris:20260403T160000
DTEND;TZID=Europe/Paris:20260403T200000
DTSTAMP:20260422T160739
CREATED:20260226T134502Z
LAST-MODIFIED:20260226T134502Z
UID:6127-1775232000-1775246400@webmarechalerie.fr
SUMMARY:Portes ouvertes Tours
DESCRIPTION:
URL:https://webmarechalerie.fr/evenement/portes-ouvertes-tours-2/
LOCATION:Agro Campus Tours-Fondettes\, BP40079\, Fondettes\, 37230
CATEGORIES:Portes ouvertes
END:VEVENT
BEGIN:VEVENT
DTSTART;TZID=Europe/Paris:20260403T080000
DTEND;TZID=Europe/Paris:20260405T170000
DTSTAMP:20260422T160739
CREATED:20260226T100736Z
LAST-MODIFIED:20260226T100736Z
UID:6067-1775203200-1775408400@webmarechalerie.fr
SUMMARY:Concours Verdun - Championnat inter-écoles 3/3
DESCRIPTION:infos à venir…
URL:https://webmarechalerie.fr/evenement/concours-verdun-championnat-inter-ecoles-3-3/
LOCATION:EPL Agro de Verdun\, 8 avenue Kennedy\, Verdun\, 55100\, France
CATEGORIES:Concours de maréchalerie
ORGANIZER;CN="EPL Agro Verdun":MAILTO:cfa.meuse@educagri.fr
END:VEVENT
BEGIN:VEVENT
DTSTART;VALUE=DATE:20260327
DTEND;VALUE=DATE:20260329
DTSTAMP:20260422T160739
CREATED:20260226T105037Z
LAST-MODIFIED:20260226T130031Z
UID:6085-1774569600-1774742399@webmarechalerie.fr
SUMMARY:Rolling Tour - Concours complet
DESCRIPTION:Organisé par Jérôme Champion\, Julien Crépin \,chef d’atelier de l’École de Cavalerie de Saumur et Aurélien Lainé\, maréchal reconnu dans le Saumurois\, région où sont installées nombre de cavaliers de Complet. \,ils vous proposent de vous accueillir dans cette école prestigieuse. \n« Le concours complet en France c’est beaucoup de pratiquants en club \, mais aussi beaucoup de cavaliers qui prétendent à des sélections internationales et nous ramènent des médailles.\nJe [Jérôme Champion] trouve personnellement que ce sont les chevaux les plus difficiles à ferrer\, quelques exemples à prendre en compte :\n_chevaux près du sang\, voir pur-sang\,avec leur corne fragile\n_ 3 tests avec chacun leurs contraintes\n_ alternance des sols\n_ préparations appuyées à l’approche des échéances\n_ et avec tout ça faut éviter qu’ils perdent un fer dès le début du cross…\nDans tous les sports notre rôle est d’anticiper les blessures et je trouve encore plus difficile de le faire avec ces athlètes \,ils sont dur au mal \,ne s’écoutent pas toujours\, capable de terminer une épreuve\, être sûr le podium le dimanche et arrivé le lundi quand le véto fait un check-up s’apercevoir qu’il à masqué des lésions pour terminer son épreuve.\nPour ces raisons j’ai demandé à Greig Elliott et Pierre Monribot de venir nous éclairer\, l’Angleterre c’est en ce moment 4 cavaliers dans le top-ten mondial\, des grands noms et des chevaux de 4 et 5* à chaque coin de rue…donc forcément des maréchaux plus habitués que nous.\nLe programme complet et les bulletins d’inscription arrivent rapidement mais vous pouvez déjà nous envoyer un message pour vous pré-inscrire. »
URL:https://webmarechalerie.fr/evenement/rolling-tour-concours-complet/
LOCATION:Ecole de cavalerie de Saumur
CATEGORIES:Formation
END:VEVENT
BEGIN:VEVENT
DTSTART;VALUE=DATE:20260326
DTEND;VALUE=DATE:20260327
DTSTAMP:20260422T160739
CREATED:20260226T104116Z
LAST-MODIFIED:20260226T104116Z
UID:6080-1774483200-1774569599@webmarechalerie.fr
SUMMARY:EasyCare Days - La Ciotat
DESCRIPTION:France Industrie Maréchalerie organise\, en collaboration avec la marque EasyCare Inc. Protective Hoofwear\, les EasyCare Days à La Ciotat\, face à l’une des plus baies du monde.\n\n\nAu programme :\n– présentation de la marque\, de son développement et focus produit par Garrett Ford\, le fondateur d’EasyCare.\n– démonstrations pratiques par Pierre Dupre\n– ateliers et échanges\n\n\n Participation : 60€ HT\, convertie en bon d’achat FIM valable sur la gamme EasyCare le jour même.\n\n\n Inscription ici : https://fim.menil.fr/journee-easycare-la-ciotat
URL:https://webmarechalerie.fr/evenement/easycare-days-la-ciotat/
LOCATION:La Cioatat
END:VEVENT
BEGIN:VEVENT
DTSTART;TZID=Europe/Paris:20260325T090000
DTEND;TZID=Europe/Paris:20260325T160000
DTSTAMP:20260422T160739
CREATED:20260226T135555Z
LAST-MODIFIED:20260226T135555Z
UID:6135-1774429200-1774454400@webmarechalerie.fr
SUMMARY:Portes ouvertes Gourdan Polignan
DESCRIPTION:Les Portes Ouvertes au CFA du Comminges se tiendront : \n_ Le Mercredi 25 Mars 2026 de 9h à 16h. \n_ Le Samedi 30 Mai 2026 de 9h à 13h. \nAu 17 rue René ARNAUD – 31210 Gourdan-Polignan \nL’occasion de venir visiter les locaux\, voir les Ateliers\, rencontrer les Formateurs et obtenir les renseignements en vue d’une future inscription.
URL:https://webmarechalerie.fr/evenement/portes-ouvertes-gourdan-polignan/
LOCATION:CFA du Comminges\, 17\, rue René Arnaud\, Gourdan Polignan\, 31210
CATEGORIES:Portes ouvertes
ORGANIZER;CN="CFA du Comminges":MAILTO:secretariat@cfaducomminges.fr
END:VEVENT
BEGIN:VEVENT
DTSTART;TZID=Europe/Paris:20260321T090000
DTEND;TZID=Europe/Paris:20260321T180000
DTSTAMP:20260422T160739
CREATED:20260226T132714Z
LAST-MODIFIED:20260226T132714Z
UID:6106-1774083600-1774116000@webmarechalerie.fr
SUMMARY:Portes ouvertes Institut de Genech
DESCRIPTION:
URL:https://webmarechalerie.fr/evenement/portes-ouvertes-institut-de-genech/
LOCATION:Institut de Genech\, 348 rue de la libération\, Genech\, 59242\, France
CATEGORIES:Portes ouvertes
END:VEVENT
BEGIN:VEVENT
DTSTART;TZID=Europe/Paris:20260321T090000
DTEND;TZID=Europe/Paris:20260321T170000
DTSTAMP:20260422T160739
CREATED:20260226T130539Z
LAST-MODIFIED:20260226T130539Z
UID:6088-1774083600-1774112400@webmarechalerie.fr
SUMMARY:Portes ouvertes MFR Saligny
DESCRIPTION:
URL:https://webmarechalerie.fr/evenement/portes-ouvertes-mfr-saligny/
LOCATION:Saligny-sur-Roudon\, 8 route de Monetay\, Saligny-sur-Roudon\, 03470\, France
CATEGORIES:Portes ouvertes
ORGANIZER;CN="MFR de Saligny-sur-Roudon":MAILTO:mfr.saligny@mfr.asso.fr
END:VEVENT
BEGIN:VEVENT
DTSTART;TZID=Europe/Paris:20260321T090000
DTEND;TZID=Europe/Paris:20260321T130000
DTSTAMP:20260422T160739
CREATED:20260226T134011Z
LAST-MODIFIED:20260226T134011Z
UID:6118-1774083600-1774098000@webmarechalerie.fr
SUMMARY:Portes ouvertes Valabre-Gardanne
DESCRIPTION:Rendez-vous le 21 mars de 9h à 12h30 pour les Journées Portes Ouvertes de Gardanne.
URL:https://webmarechalerie.fr/evenement/portes-ouvertes-valabre-gardanne/
LOCATION:Campus Nature Provence\, Chemin du moulin fort\, Gardanne\, 13548\, France
CATEGORIES:Portes ouvertes
END:VEVENT
BEGIN:VEVENT
DTSTART;TZID=Europe/Paris:20260315T100000
DTEND;TZID=Europe/Paris:20260315T170000
DTSTAMP:20260422T160739
CREATED:20260226T131235Z
LAST-MODIFIED:20260226T131235Z
UID:6096-1773568800-1773594000@webmarechalerie.fr
SUMMARY:Portes ouvertes St Cyran
DESCRIPTION:
URL:https://webmarechalerie.fr/evenement/portes-ouvertes-st-cyran/
LOCATION:Saint-Cyran-du-Jambot\, 1 Route de Châtillon\, Sain-Cyran-du-Jambot\, 36700
CATEGORIES:Portes ouvertes
ORGANIZER;CN="Lyc%C3%A9e d'Enseignement Agricole Priv%C3%A9 Saint Cyran":MAILTO:st-cyran-du-jambot@cneap.fr
END:VEVENT
BEGIN:VEVENT
DTSTART;TZID=Europe/Paris:20260314T090000
DTEND;TZID=Europe/Paris:20260314T170000
DTSTAMP:20260422T160739
CREATED:20260226T133317Z
LAST-MODIFIED:20260226T133317Z
UID:6116-1773478800-1773507600@webmarechalerie.fr
SUMMARY:Portes ouvertes Barbezieux
DESCRIPTION:Inscription via ce lien
URL:https://webmarechalerie.fr/evenement/portes-ouvertes-barbezieux/
LOCATION:Campus des métiers de Barbezieux\, 39 avenue de Vignola\, Barbezieux-St-Hilaire\, 16300
CATEGORIES:Portes ouvertes
ORGANIZER;CN="CFA de Barbezieux":MAILTO:cfa.barbezieux@cma-charente.fr
END:VEVENT
BEGIN:VEVENT
DTSTART;TZID=Europe/Paris:20260314T090000
DTEND;TZID=Europe/Paris:20260314T160000
DTSTAMP:20260422T160739
CREATED:20260226T135258Z
LAST-MODIFIED:20260226T135323Z
UID:6133-1773478800-1773504000@webmarechalerie.fr
SUMMARY:Portes ouvertes Mirande
DESCRIPTION:Infos et vidéos visite virtuelle ici
URL:https://webmarechalerie.fr/evenement/portes-ouvertes-mirande/
LOCATION:LPA de Mirande\, BP 54\, Route de Valentées\, Mirande\, 32300
CATEGORIES:Portes ouvertes
ORGANIZER;CN="LPA de Mirande":MAILTO:lpa.mirande@educagri.fr
END:VEVENT
BEGIN:VEVENT
DTSTART;TZID=Europe/Paris:20260314T090000
DTEND;TZID=Europe/Paris:20260314T150000
DTSTAMP:20260422T160739
CREATED:20260226T140026Z
LAST-MODIFIED:20260226T140026Z
UID:6139-1773478800-1773500400@webmarechalerie.fr
SUMMARY:Portes ouvertes St Chély - Marvejols
DESCRIPTION:Prochaines portes ouvertes de l’enseignement agricole public de la Lozère le samedi 14 Mars de 9h à 15h sur tous  les sites \n– St Chély d’Apcher : CAPa MF en voie scolaire / atelier de forge support pédagogique \n– Marvejols : CAPa MF en apprentissage + BTM en apprentissage
URL:https://webmarechalerie.fr/evenement/portes-ouvertes-st-chely-marvejols/
LOCATION:St Chély d’Apcher\, France
CATEGORIES:Portes ouvertes
END:VEVENT
BEGIN:VEVENT
DTSTART;TZID=Europe/Paris:20260314T083000
DTEND;TZID=Europe/Paris:20260314T120000
DTSTAMP:20260422T160739
CREATED:20260226T131540Z
LAST-MODIFIED:20260226T131540Z
UID:6101-1773477000-1773489600@webmarechalerie.fr
SUMMARY:Portes ouvertes Sury-le-Comtal
DESCRIPTION:de 8h30 à 12h
URL:https://webmarechalerie.fr/evenement/portes-ouvertes-sury-le-comtal/
LOCATION:Sury-le-Comtal\, 1 rue du petit lavoir\, Sury-le-Comtal\, 42250\, France
CATEGORIES:Portes ouvertes
ORGANIZER;CN="Lyc%C3%A9e agricole priv%C3%A9 Saint Andr%C3%A9":MAILTO:sury-le-comtal@cneap.fr
END:VEVENT
BEGIN:VEVENT
DTSTART;TZID=Europe/Paris:20260313T080000
DTEND;TZID=Europe/Paris:20260314T170000
DTSTAMP:20260422T160739
CREATED:20260226T102914Z
LAST-MODIFIED:20260226T102914Z
UID:6073-1773388800-1773507600@webmarechalerie.fr
SUMMARY:Journées professionnelles Eurofers
DESCRIPTION:
URL:https://webmarechalerie.fr/evenement/journees-professionnelles-eurofers/
LOCATION:Chez Fabien Rigoreau\, Les gouzils\, Brèches\, 37330\, France
END:VEVENT
BEGIN:VEVENT
DTSTART;TZID=Europe/Paris:20260311T140000
DTEND;TZID=Europe/Paris:20260311T163000
DTSTAMP:20260422T160739
CREATED:20260226T132937Z
LAST-MODIFIED:20260226T132937Z
UID:6111-1773237600-1773246600@webmarechalerie.fr
SUMMARY:Portes ouvertes Les Vaseix
DESCRIPTION:
URL:https://webmarechalerie.fr/evenement/portes-ouvertes-les-vaseix/
LOCATION:Lycée agricole des Vaseix\, Les Vaseix\, Verneuil-sur-Vienne\, 87430
CATEGORIES:Portes ouvertes
END:VEVENT
BEGIN:VEVENT
DTSTART;TZID=Europe/Paris:20260307T090000
DTEND;TZID=Europe/Paris:20260307T170000
DTSTAMP:20260422T160739
CREATED:20260226T134815Z
LAST-MODIFIED:20260226T134815Z
UID:6129-1772874000-1772902800@webmarechalerie.fr
SUMMARY:Portes ouvertes Laval
DESCRIPTION:Journée Portes Ouvertes du Campus de 9h à 17h\nToutes les formations du lycée\, du CFA et du CFPPA sont concernées. \n  \nAu programme :\n\nAccueil de tous les visiteurs au bâtiment central du campus avec un espace dédié aux informations administratives\nVisite guidée du campus par des élèves\nDe nombreux lieux accessibles (atelier hippique\, halle agroalimentaire\, exploitation agricole\, internats\, CDI\, maison des lycéens\, …)\nProduction et dégustation de brioches à la halle agroalimentaire\nVente de crêpes au profit du Réseau Sentinelle de l’AgriCampus Laval (lutte contre le harcèlement scolaire)\nRestauration possible sur place grâce à un foodtruck\n\n  \nPour le lycée (formations en voie scolaire) :\n\nDes étudiants de BTSa ACS’Agri et Métiers de l’élevage seront présents sur place pour échanger avec vous et vous présenter leurs formations\nDes informations collectives et des entretiens personnalisés avec des professeurs\nStands pour les informations liées à l’administration et la vie sur le campus\n\n  \nPour le CFA (formations en apprentissage) :\n\nAtelier Maréchalerie : Accueil des familles par des formateurs pour visite de l’atelier\nBâtiment Georges DREUX : Accueil des familles pour les formations CAPa (avec ou sans RDV)\n\nPour le CAPa Maréchal-ferrant\, RDV de 15 minutes\nInformations collectives de 30 minutes à 09h30 – 11h00 – 14h00 et 15h30.\n\n\n\n\nBâtiment Claude ROUGET : Accueil des familles pour les formations Bac Pro et BTSa (avec ou sans RDV)\n\nPour le BTS ACS’AGRI\, RDV de 15 minutes et informations collectives de 30 minutes à 09h30 – 10h30 et 11h30.\n\n\n\n  \nPour le CFPPA (formation adulte) :\n\nInformations collectives pour les ASV à l’amphithéâtre à 9h30 – 11h – 13h30 – 15h\, puis visite des salle de TP des ASV\nInformations collectives pour les AE et BP JEPS à 10h30 – 14h30
URL:https://webmarechalerie.fr/evenement/portes-ouvertes-laval/
LOCATION:Agri Campus Laval\, 321 route de Saint Nazaire\, Laval\, 53013
CATEGORIES:Portes ouvertes
ORGANIZER;CN="Agri Campus de Laval":MAILTO:legta.laval@educagri.fr
END:VEVENT
BEGIN:VEVENT
DTSTART;TZID=Europe/Paris:20260307T090000
DTEND;TZID=Europe/Paris:20260307T160000
DTSTAMP:20260422T160739
CREATED:20260226T131014Z
LAST-MODIFIED:20260226T131014Z
UID:6093-1772874000-1772899200@webmarechalerie.fr
SUMMARY:Portes ouvertes EPL Contamines
DESCRIPTION:Affiches-JPO-2026
URL:https://webmarechalerie.fr/evenement/portes-ouvertes-epl-contamines/
LOCATION:Contamine-sur-Arve\, 150 route de la mairie\, Contamine-sur-Arve\, 74130\, France
CATEGORIES:Portes ouvertes
ORGANIZER;CN="Lyc%C3%A9e agricole de Contamine-sur-Arve":MAILTO:epl.contamine@educagri.fr
END:VEVENT
BEGIN:VEVENT
DTSTART;TZID=Europe/Paris:20260307T090000
DTEND;TZID=Europe/Paris:20260307T130000
DTSTAMP:20260422T160739
CREATED:20260226T134352Z
LAST-MODIFIED:20260226T134352Z
UID:6122-1772874000-1772888400@webmarechalerie.fr
SUMMARY:Portes ouvertes Tours
DESCRIPTION:
URL:https://webmarechalerie.fr/evenement/portes-ouvertes-tours/
LOCATION:Agro Campus Tours-Fondettes\, BP40079\, Fondettes\, 37230
CATEGORIES:Portes ouvertes
END:VEVENT
BEGIN:VEVENT
DTSTART;VALUE=DATE:20260307
DTEND;VALUE=DATE:20260308
DTSTAMP:20260422T160739
CREATED:20260126T144541Z
LAST-MODIFIED:20260126T144619Z
UID:5808-1772841600-1772927999@webmarechalerie.fr
SUMMARY:Sélection équipe de France pour les Championnats d'Europe
DESCRIPTION:Toutes les infos sur la page dédiée de l’UFM
URL:https://webmarechalerie.fr/evenement/selection-equipe-de-france-pour-les-championnats-deurope/
LOCATION:St Chély d’Apcher\, France
CATEGORIES:Concours de maréchalerie
END:VEVENT
BEGIN:VEVENT
DTSTART;VALUE=DATE:20260305
DTEND;VALUE=DATE:20260306
DTSTAMP:20260422T160739
CREATED:20260226T101936Z
LAST-MODIFIED:20260226T101936Z
UID:6069-1772668800-1772755199@webmarechalerie.fr
SUMMARY:Formation biomécanique ACR
DESCRIPTION:Antoine CORONA\, maréchal-ferrant\, et le Dr Bertrand OLONDE\, vétérinaire\, vous proposent une formation biomécanique – Stage niveau 2 vétérinaire / maréchal.\n\n\nUn regard croisé maréchal / vétérinaire pour approfondir l’analyse de l’aplomb\, de la locomotion et affiner les choix de ferrage grâce à la biomécanique\, la radiographie et l’observation terrain.\n\n\n\n\n Au programme\n\n\n\nMatin – Théorie \n\n  \n\nBases de la biomécanique phalangienne en lien avec le membre proximal\n\n\nRadiographie du pied et mesures d’évaluation\n\n\nTechnique photogr\naphique du pied et protocole de prise de vue (distances\, incidences AVF / APF)\n\n\nAprès-midi – Pratique \n\n\nExamens statiques et locomoteurs sur cas concrets\n\n\nContrôle visuel et radiographique\n\n\nAnalyse des problématiques d’aplomb\n\n\nDiscussion autour des choix de ferrage\n\n\nDébriefing et échanges de fin de journée\n\n\n\n\nRepas compris\nTarif : 250€\nPlaces limitées\nInscriptions : https://corona-formation.fr/\n\n\n\n\n\n\n\n\n\n\n\n\n\n\n\n\n\n\n\n\n\n\n\n\n\n\n\n\n\n\n 
URL:https://webmarechalerie.fr/evenement/formation-biomecanique-acr/
LOCATION:AC- Concepts SARL\, ZAC des Hunaudières\, 1611 chemin des queutes\, Ruaudin\, 72230\, France
ORGANIZER;CN="Antoine Corona":MAILTO:secretariat@ac-concepts.com
END:VEVENT
BEGIN:VEVENT
DTSTART;VALUE=DATE:20260227
DTEND;VALUE=DATE:20260302
DTSTAMP:20260422T160739
CREATED:20260126T143934Z
LAST-MODIFIED:20260126T143934Z
UID:5803-1772150400-1772409599@webmarechalerie.fr
SUMMARY:Concours Saligny - Championnat inter écoles 2/3
DESCRIPTION:Inscriptions avant le 5 février ici \nModèles disponibles sur la page Facebook de la MFR
URL:https://webmarechalerie.fr/evenement/concours-saligny-championnat-inter-ecoles-2-3/
LOCATION:Saligny-sur-Roudon\, 8 route de Monetay\, Saligny-sur-Roudon\, 03470\, France
CATEGORIES:Concours de maréchalerie
ORGANIZER;CN="MFR de Saligny-sur-Roudon":MAILTO:mfr.saligny@mfr.asso.fr
END:VEVENT
BEGIN:VEVENT
DTSTART;VALUE=DATE:20260220
DTEND;VALUE=DATE:20260222
DTSTAMP:20260422T160739
CREATED:20250615T105856Z
LAST-MODIFIED:20250615T105856Z
UID:5483-1771545600-1771718399@webmarechalerie.fr
SUMMARY:Stages perfectionnement de forge avec Vincent Lamaille (3/3)
DESCRIPTION:Informations complémentaires à venir
URL:https://webmarechalerie.fr/evenement/stages-perfectionnement-de-forge-avec-vincent-lamaille-3-3/
LOCATION:Saint-Cyr-les-Champagnes
CATEGORIES:Formation
END:VEVENT
BEGIN:VEVENT
DTSTART;TZID=Europe/Paris:20260217T193000
DTEND;TZID=Europe/Paris:20260217T210000
DTSTAMP:20260422T160739
CREATED:20260126T142823Z
LAST-MODIFIED:20260126T142823Z
UID:5799-1771356600-1771362000@webmarechalerie.fr
SUMMARY:Web conférence - Prévention et santé du maréchal
DESCRIPTION:Découvre comment préserver ton corps au quotidien et éviter les douleurs chroniques \nAu programme : \n\n\nLa biomécanique et l’apparition des douleurs\nIdentifier les signaux d’alerte\nPrévention en pratique\nHygiène de vie et récupération\nAdapter son matériel et son environnement\nInterventions chirurgicales et rééducation\n\nInfos complémentaires à venir
URL:https://webmarechalerie.fr/evenement/web-conference-prevention-et-sante-du-marechal/
LOCATION:En ligne via Zoom
CATEGORIES:Conférence
END:VEVENT
BEGIN:VEVENT
DTSTART;VALUE=DATE:20260215
DTEND;VALUE=DATE:20260216
DTSTAMP:20260422T160739
CREATED:20260126T145006Z
LAST-MODIFIED:20260126T145127Z
UID:5811-1771113600-1771199999@webmarechalerie.fr
SUMMARY:Date butoir inscription aux sélections de l'équipe de France
DESCRIPTION:
URL:https://webmarechalerie.fr/evenement/date-butoir-inscription-aux-selections-de-lequipe-de-france/
CATEGORIES:Concours de maréchalerie
END:VEVENT
BEGIN:VEVENT
DTSTART;TZID=Europe/Paris:20260214T084500
DTEND;TZID=Europe/Paris:20260214T170000
DTSTAMP:20260422T160739
CREATED:20260126T141414Z
LAST-MODIFIED:20260126T141414Z
UID:5790-1771058700-1771088400@webmarechalerie.fr
SUMMARY:Conférence de l'affûtage au ferrage spécial âne/mulet
DESCRIPTION:
URL:https://webmarechalerie.fr/evenement/conference-de-laffutage-au-ferrage-special-ane-mulet/
LOCATION:Farnay (42320)\, Farnay\, 42320\, France
CATEGORIES:Conférence
END:VEVENT
BEGIN:VEVENT
DTSTART;TZID=Europe/Paris:20260207T090000
DTEND;TZID=Europe/Paris:20260207T170000
DTSTAMP:20260422T160739
CREATED:20260126T141935Z
LAST-MODIFIED:20260126T141935Z
UID:5795-1770454800-1770483600@webmarechalerie.fr
SUMMARY:Portes ouvertes EPL Agro Verdun
DESCRIPTION:
URL:https://webmarechalerie.fr/evenement/portes-ouvertes-epl-agro-verdun/
LOCATION:EPL Agro de Verdun\, 8 avenue Kennedy\, Verdun\, 55100\, France
CATEGORIES:Portes ouvertes
ORGANIZER;CN="EPL Agro Verdun":MAILTO:cfa.meuse@educagri.fr
END:VEVENT
BEGIN:VEVENT
DTSTART;TZID=Europe/Paris:20260207T083000
DTEND;TZID=Europe/Paris:20260207T170000
DTSTAMP:20260422T160739
CREATED:20260226T132007Z
LAST-MODIFIED:20260226T132007Z
UID:6103-1770453000-1770483600@webmarechalerie.fr
SUMMARY:Portes ouvertes St Hilaire
DESCRIPTION:
URL:https://webmarechalerie.fr/evenement/portes-ouvertes-st-hilaire/
LOCATION:Agri’pôle de Saint Hilaire\, 11 route de Fougères\, Saint-Hilaire-du-Harcouët\, 50600
CATEGORIES:Portes ouvertes
ORGANIZER;CN="Agri'p%C3%B4le de Saint-Hilaire":MAILTO:cfa.st-hilaire@educagri.fr
END:VEVENT
END:VCALENDAR