BEGIN:VCALENDAR
VERSION:2.0
PRODID:-//Web Maréchalerie - ECPv6.15.20//NONSGML v1.0//EN
CALSCALE:GREGORIAN
METHOD:PUBLISH
X-WR-CALNAME:Web Maréchalerie
X-ORIGINAL-URL:https://webmarechalerie.fr
X-WR-CALDESC:Évènements pour Web Maréchalerie
REFRESH-INTERVAL;VALUE=DURATION:PT1H
X-Robots-Tag:noindex
X-PUBLISHED-TTL:PT1H
BEGIN:VTIMEZONE
TZID:Europe/Paris
BEGIN:DAYLIGHT
TZOFFSETFROM:+0100
TZOFFSETTO:+0200
TZNAME:CEST
DTSTART:20250330T010000
END:DAYLIGHT
BEGIN:STANDARD
TZOFFSETFROM:+0200
TZOFFSETTO:+0100
TZNAME:CET
DTSTART:20251026T010000
END:STANDARD
BEGIN:DAYLIGHT
TZOFFSETFROM:+0100
TZOFFSETTO:+0200
TZNAME:CEST
DTSTART:20260329T010000
END:DAYLIGHT
BEGIN:STANDARD
TZOFFSETFROM:+0200
TZOFFSETTO:+0100
TZNAME:CET
DTSTART:20261025T010000
END:STANDARD
BEGIN:DAYLIGHT
TZOFFSETFROM:+0100
TZOFFSETTO:+0200
TZNAME:CEST
DTSTART:20270328T010000
END:DAYLIGHT
BEGIN:STANDARD
TZOFFSETFROM:+0200
TZOFFSETTO:+0100
TZNAME:CET
DTSTART:20271031T010000
END:STANDARD
END:VTIMEZONE
BEGIN:VEVENT
DTSTART;VALUE=DATE:20260327
DTEND;VALUE=DATE:20260329
DTSTAMP:20260424T150754
CREATED:20260226T105037Z
LAST-MODIFIED:20260226T130031Z
UID:6085-1774569600-1774742399@webmarechalerie.fr
SUMMARY:Rolling Tour - Concours complet
DESCRIPTION:Organisé par Jérôme Champion\, Julien Crépin \,chef d’atelier de l’École de Cavalerie de Saumur et Aurélien Lainé\, maréchal reconnu dans le Saumurois\, région où sont installées nombre de cavaliers de Complet. \,ils vous proposent de vous accueillir dans cette école prestigieuse. \n« Le concours complet en France c’est beaucoup de pratiquants en club \, mais aussi beaucoup de cavaliers qui prétendent à des sélections internationales et nous ramènent des médailles.\nJe [Jérôme Champion] trouve personnellement que ce sont les chevaux les plus difficiles à ferrer\, quelques exemples à prendre en compte :\n_chevaux près du sang\, voir pur-sang\,avec leur corne fragile\n_ 3 tests avec chacun leurs contraintes\n_ alternance des sols\n_ préparations appuyées à l’approche des échéances\n_ et avec tout ça faut éviter qu’ils perdent un fer dès le début du cross…\nDans tous les sports notre rôle est d’anticiper les blessures et je trouve encore plus difficile de le faire avec ces athlètes \,ils sont dur au mal \,ne s’écoutent pas toujours\, capable de terminer une épreuve\, être sûr le podium le dimanche et arrivé le lundi quand le véto fait un check-up s’apercevoir qu’il à masqué des lésions pour terminer son épreuve.\nPour ces raisons j’ai demandé à Greig Elliott et Pierre Monribot de venir nous éclairer\, l’Angleterre c’est en ce moment 4 cavaliers dans le top-ten mondial\, des grands noms et des chevaux de 4 et 5* à chaque coin de rue…donc forcément des maréchaux plus habitués que nous.\nLe programme complet et les bulletins d’inscription arrivent rapidement mais vous pouvez déjà nous envoyer un message pour vous pré-inscrire. »
URL:https://webmarechalerie.fr/evenement/rolling-tour-concours-complet/
LOCATION:Ecole de cavalerie de Saumur
CATEGORIES:Formation
END:VEVENT
END:VCALENDAR